BEGIN:VCALENDAR
VERSION:2.0
PRODID:-//Le Pied de la Lune - ECPv6.15.17//NONSGML v1.0//EN
CALSCALE:GREGORIAN
METHOD:PUBLISH
X-ORIGINAL-URL:https://lepieddelalune.com
X-WR-CALDESC:Évènements pour Le Pied de la Lune
REFRESH-INTERVAL;VALUE=DURATION:PT1H
X-Robots-Tag:noindex
X-PUBLISHED-TTL:PT1H
BEGIN:VTIMEZONE
TZID:UTC
BEGIN:STANDARD
TZOFFSETFROM:+0000
TZOFFSETTO:+0000
TZNAME:UTC
DTSTART:20250101T000000
END:STANDARD
END:VTIMEZONE
BEGIN:VEVENT
DTSTART;TZID=UTC:20260424T203000
DTEND;TZID=UTC:20260424T233000
DTSTAMP:20260420T091644
CREATED:20260417T123152Z
LAST-MODIFIED:20260417T123245Z
UID:5272-1777062600-1777073400@lepieddelalune.com
SUMMARY:Soirée Stand Up du vendredi 24 avril
DESCRIPTION:Avec : Riou Ben\, Aliénor\, Ben
URL:https://lepieddelalune.com/evenement/soiree-stand-up-du-vendredi-24-avril
CATEGORIES:Concerts
ATTACH;FMTTYPE=image/jpeg:https://lepieddelalune.com/wp-content/uploads/2026/04/AFFICHE-PDLL-24-AVRIL_page-0001.jpg
END:VEVENT
END:VCALENDAR